Workbook

Sheet Budget Summary
A1: BAGEL BOY - BUDGET
A2: BUDGET SUMMARY | B2: EX VAT | C2: EX VAT (USD)
A3: ='Full Budget '!B2 -> TALENT | B3: ='Full Budget '!I2 -> 947040 | C3: =B3/$D$25 -> 57746.341
A4: ='Full Budget '!B34 -> EXECUTIVE TEAM | B4: ='Full Budget '!I34 -> 252000 | C4: =B4/$D$25 -> 15365.854
A5: ='Full Budget '!B40 -> DIRECTORS TEAM | B5: ='Full Budget '!I40 -> 506500 | C5: =B5/$D$25 -> 30884.146
A6: ='Full Budget '!B53 -> PRODUCTION TEAM | B6: ='Full Budget '!I53 -> 426500 | C6: =B6/$D$25 -> 26006.098
A7: ='Full Budget '!B62 -> ACCOUNTS DEPARTMENT | B7: ='Full Budget '!I62 -> 216000 | C7: =B7/$D$25 -> 13170.732
A8: ='Full Budget '!B65 -> CAMERA DEPARTMENT | B8: ='Full Budget '!I65 -> 746250 | C8: =B8/$D$25 -> 45503.049
A9: ='Full Budget '!B82 -> SOUND DEPARTMENT | B9: ='Full Budget '!I82 -> 101250 | C9: =B9/$D$25 -> 6173.7805
A10: ='Full Budget '!B92 -> LIGHTING DEPARTMENT | B10: ='Full Budget '!I92 -> 349000 | C10: =B10/$D$25 -> 21280.488
A11: ='Full Budget '!B105 -> GRIPS DEPARTMENT | B11: ='Full Budget '!I105 -> 159000 | C11: =B11/$D$25 -> 9695.122
A12: ='Full Budget '!B115 -> ART DEPARTMENT | B12: ='Full Budget '!I115 -> 955000 | C12: =B12/$D$25 -> 58231.707
A13: ='Full Budget '!B139 -> COSTUMES & MAKE-UP | B13: ='Full Budget '!I139 -> 616600 | C13: =B13/$D$25 -> 37597.561
A14: ='Full Budget '!B156 -> LOCATIONS | B14: ='Full Budget '!I156 -> 622300 | C14: =B14/$D$25 -> 37945.122
A15: ='Full Budget '!B181 -> TRANSPORT & LOGISTICS | B15: ='Full Budget '!I181 -> 441700 | C15: =B15/$D$25 -> 26932.927
A16: ='Full Budget '!B208 -> HOTEL & LIVING | B16: ='Full Budget '!I208 -> 359125 | C16: =B16/$D$25 -> 21897.866
A17: ='Full Budget '!B221 -> POST PRODUCTION | B17: ='Full Budget '!I221 -> 956821.4 | C17: =B17/$D$25 -> 58342.768
A18: ='Full Budget '!B244 -> OVERHEADS | B18: ='Full Budget '!I244 -> 61000 | C18: =B18/$D$25 -> 3719.5122
A19: ='Full Budget '!B262 -> PRODUCTION ADMINISTRATION | B19: ='Full Budget '!I262 -> 154321.73 | C19: =B19/$D$25 -> 9409.8615
A20: ='Full Budget '!B265 -> STATUTORY COSTS | B20: ='Full Budget '!I265 -> 25103 | C20: =B20/$D$25 -> 1530.6707
A21: ='Full Budget '!B269 -> INSURANCE | B21: ='Full Budget '!I269 -> 254488.87 | C21: =B21/$D$25 -> 15517.614
A22: Total | B22: =SUM(B3:B21) -> 8150000 | C22: =B22/$D$25 -> 496951.22
C25: ZAR per US$1 | D25: 16.4
C26: Rate rounded to R16.40; 23 September 2026.

Sheet Full Budget 
A1: SCHNO | B1: COST DESCRIPTION | C1: PRODUCER BUDGET NOTES | D1: CURR | E1: NO | F1: RATE | G1: QTY | H1: UNITS | I1: PROPOSED BUDGET (RAND) | J1: RECOVERY ITEMS TOTAL | L1: Cashflow | V1: Finance team notes | W1: Sanktuary Answers | Z1: SCHNO | AA1: COST DESCRIPTION | AB1: DETAIL | AD1: PAYROLL ITEM Y/N/I/R/RC | AE1: CURR | AF1: NO | AG1: PROPOSED BUDGET (US DOLLAR)
A2: A | B2: TALENT | I2: =SUM(I3+I6+I17+I25) -> 947040 | J2: 0 | L2: 45292 | M2: 45323 | N2: 45352 | O2: 45383 | P2: 45413 | Q2: 45444 | R2: 45474 | V2: No Payment Schedule - Please provide monthly cashflow to generate payment schedule according to the financial needs of the productio. | W2: Noted - see inclusion COLUMNS O-V | Z2: F | AA2: TALENT | AG2: =I2/'Budget Summary'!$D$25 -> 57746.341
A3: A01 | B3: LEAD ROLES | I3: =SUM(I4) -> 150000 | J3: 0 | N3: =I2 -> 947040 | S3: =SUM(L3:R3) -> 947040 | V3: No Budget Summary | W3: Noted - see BUDGET SUMMARY SHEET | Z3: F02 | AA3: LEAD ROLES | AG3: =I3/'Budget Summary'!$D$25 -> 9146.3415
A4: A01-001 | B4: RODNEY KATZ | C4: rehearsal + wardrobe + 3 week shoot | D4: ZAR | E4: 1 | F4: 7500 | G4: 20 | H4: CALL | I4: =E4*F4*G4 -> 150000 | J4: 0 | S4: =SUM(L4:R4) -> 0 | V4: Please advise if there aren't any internal costs. | W4: Sanktuary Films does not have offices nor permanent employees therefore there are no Recoverables. Or is the Production fee and Director (Jordy Sank who is the company owner) a recouplable, please advise. | Z4: F02-02 | AA4: LEAD - 1. ELSABE | AB4: 06. SHOOT | AD4: Y | AE4: ZAR | AF4: 1 | AG4: =I4/'Budget Summary'!$D$25 -> 9146.3415
A5: ST | B5: SUB-TOTAL | I5: =SUM(I4) -> 150000 | J5: 0 | S5: =SUM(L5:R5) -> 0 | Z5: ST | AA5: SUB-TOTAL | AG5: =I5/'Budget Summary'!$D$25 -> 9146.3415
A6: A02 | B6: SUPPORTING LEADS | I6: =SUM(I7:I15) -> 558000 | J6: 0 | S6: =SUM(L6:R6) -> 0 | Z6: F03 | AA6: SUPPORTING LEADS | AG6: =I6/'Budget Summary'!$D$25 -> 34024.39
A7: A02-001 | B7: THEO | D7: ZAR | E7: 1 | F7: 7500 | G7: 10 | H7: CALL | I7: =E7*F7*G7 -> 75000 | J7: 0 | S7: =SUM(L7:R7) -> 0 | Z7: F02-04 | AA7: LEAD - 3. MIENKIE | AB7: 06. SHOOT | AD7: Y | AE7: ZAR | AF7: 1 | AG7: =I7/'Budget Summary'!$D$25 -> 4573.1707
A8: A02-002 | B8: ROGER | D8: ZAR | E8: 1 | F8: 7500 | G8: 10 | H8: CALL | I8: =E8*F8*G8 -> 75000 | J8: 0 | S8: =SUM(L8:R8) -> 0 | Z8: F02-05 | AA8: LEAD - 4. KATHIE | AB8: 06. SHOOT | AD8: Y | AE8: ZAR | AF8: 1 | AG8: =I8/'Budget Summary'!$D$25 -> 4573.1707
A9: A02-003 | B9: MINKIE | D9: ZAR | E9: 1 | F9: 7500 | G9: 10 | H9: CALL | I9: =E9*F9*G9 -> 75000 | J9: 0 | S9: =SUM(L9:R9) -> 0 | Z9: F02-06 | AA9: LEAD - 5. WIKUS | AB9: 06. SHOOT | AD9: Y | AE9: ZAR | AF9: 1 | AG9: =I9/'Budget Summary'!$D$25 -> 4573.1707
A10: A02-004 | B10: RODNEY'S BROTHER | D10: ZAR | E10: 1 | F10: 7500 | G10: 6 | H10: CALL | I10: =E10*F10*G10 -> 45000 | J10: 0 | AG10: =I10/'Budget Summary'!$D$25 -> 2743.9024
A11: A02-005 | B11: RODNEY'S FATHER | D11: ZAR | E11: 1 | F11: 9000 | G11: 6 | H11: CALL | I11: =E11*F11*G11 -> 54000 | J11: 0 | AG11: =I11/'Budget Summary'!$D$25 -> 3292.6829
A12: A02-006 | B12: RODNEY'S MOTHER | D12: ZAR | E12: 1 | F12: 9000 | G12: 6 | H12: CALL | I12: =E12*F12*G12 -> 54000 | AG12: =I12/'Budget Summary'!$D$25 -> 3292.6829
A13: A02-007 | B13: RODNEY'S GRANDMOTHER | D13: ZAR | E13: 1 | F13: 9000 | G13: 6 | H13: CALL | I13: =E13*F13*G13 -> 54000 | AG13: =I13/'Budget Summary'!$D$25 -> 3292.6829
A14: A02-008 | B14: MICKEY | D14: ZAR | E14: 1 | F14: 7500 | G14: 12 | H14: CALL | I14: =E14*F14*G14 -> 90000 | J14: 0 | AG14: =I14/'Budget Summary'!$D$25 -> 5487.8049
A15: A02-009 | B15: TEACHER | D15: ZAR | E15: 1 | F15: 9000 | G15: 4 | H15: CALL | I15: =E15*F15*G15 -> 36000 | AG15: =I15/'Budget Summary'!$D$25 -> 2195.122
A16: ST | B16: SUB-TOTAL | I16: =I6 -> 558000 | J16: 0 | S16: =SUM(L16:R16) -> 0 | Z16: ST | AA16: SUB-TOTAL | AG16: =I16/'Budget Summary'!$D$25 -> 34024.39
A17: A03 | B17: FEATURED ONE LINERS / DAY PLAYERS | I17: =SUM(I18:I23) -> 24000 | J17: 0 | S17: =SUM(L17:R17) -> 0 | Z17: F06 | AA17: FEATURED ONE LINERS / DAY PLAYERS | AG17: =I17/'Budget Summary'!$D$25 -> 1463.4146
A18: A03-001 | B18: LIBRARIAN | D18: ZAR | E18: 1 | F18: 4000 | G18: 1 | H18: CALL | I18: =E18*F18*G18 -> 4000 | J18: 0 | S18: =SUM(L18:R18) -> 0 | Z18: F06-02 | AA18: FEATURED EXTRAS - POLICEMAN | AB18: 06. SHOOT | AD18: Y | AE18: ZAR | AF18: 1 | AG18: =I18/'Budget Summary'!$D$25 -> 243.90244
A19: A03-002 | B19: BULLY 1 | D19: ZAR | E19: 1 | F19: 4000 | G19: 1 | H19: CALL | I19: =E19*F19*G19 -> 4000 | J19: 0 | S19: =SUM(L19:R19) -> 0 | Z19: F06-03 | AA19: FEATURED EXTRAS - SHEEP FARMER | AB19: 06. SHOOT | AD19: Y | AE19: ZAR | AF19: 1 | AG19: =I19/'Budget Summary'!$D$25 -> 243.90244
A20: A03-003 | B20: BULLY 2 | D20: ZAR | E20: 1 | F20: 4000 | G20: 1 | H20: CALL | I20: =E20*F20*G20 -> 4000 | J20: 0 | S20: =SUM(L20:R20) -> 0 | Z20: F06-50 | AA20: FEATURED EXTRAS - BIKER | AB20: 06. SHOOT | AD20: Y | AE20: ZAR | AF20: 1 | AG20: =I20/'Budget Summary'!$D$25 -> 243.90244
A21: A03-004 | B21: BULLY 3 | D21: ZAR | E21: 1 | F21: 4000 | G21: 1 | H21: CALL | I21: =E21*F21*G21 -> 4000 | J21: 0 | S21: =SUM(L21:R21) -> 0 | Z21: F06-51 | AA21: FEATURED EXTRAS - WOMAN | AB21: 06. SHOOT | AD21: Y | AE21: ZAR | AF21: 1 | AG21: =I21/'Budget Summary'!$D$25 -> 243.90244
A22: A03-006 | B22: MINKIE'S DAD | D22: ZAR | E22: 1 | F22: 4000 | G22: 1 | H22: CALL | I22: =E22*F22*G22 -> 4000 | J22: 0 | AG22: =I22/'Budget Summary'!$D$25 -> 243.90244
A23: A03-007 | B23: TOWNFOLK | D23: ZAR | E23: 1 | F23: 4000 | G23: 1 | H23: CALL | I23: =E23*F23*G23 -> 4000 | J23: 0 | AG23: =I23/'Budget Summary'!$D$25 -> 243.90244
A24: ST | B24: SUB-TOTAL | I24: =SUM(I18:I23) -> 24000 | J24: 0 | S24: =SUM(L24:R24) -> 0 | Z24: ST | AA24: SUB-TOTAL | AG24: =I24/'Budget Summary'!$D$25 -> 1463.4146
A25: A04 | B25: EXTRAS (NON-SPEAKING) | I25: =SUM(I26:I30) -> 215040 | J25: 0 | S25: =SUM(L25:R25) -> 0 | Z25: F07 | AA25: FEATURED EXTRAS (NON-SPEAKING) | AG25: =I25/'Budget Summary'!$D$25 -> 13112.195
A26: A04-002 | B26: Library extras | D26: ZAR | E26: 12 | F26: 420 | G26: 1 | H26: CALL | I26: =E26*F26*G26 -> 5040 | J26: 0 | S26: =SUM(L26:R26) -> 0 | Z26: F07-03 | AA26: BACKGROUND EXTRAS - FESTIVAL GOERS | AB26: 06. SHOOT | AD26: Y | AE26: ZAR | AF26: 50 | AG26: =I26/'Budget Summary'!$D$25 -> 307.31707
A27: A04-003 | B27: Town Extras | D27: ZAR | E27: 35 | F27: 420 | G27: 5 | H27: CALL | I27: =E27*F27*G27 -> 73500 | J27: 0 | AG27: =I27/'Budget Summary'!$D$25 -> 4481.7073
A28: A04-004 | B28: School Extras | D28: ZAR | E28: 65 | F28: 420 | G28: 3 | H28: CALL | I28: =E28*F28*G28 -> 81900 | J28: 0 | AG28: =I28/'Budget Summary'!$D$25 -> 4993.9024
A29: A04-005 | B29: Disco Dirks Extras | D29: ZAR | E29: 30 | F29: 420 | G29: 1 | H29: CALL | I29: =E29*F29*G29 -> 12600 | J29: 0 | AG29: =I29/'Budget Summary'!$D$25 -> 768.29268
A30: A04-006 | B30: School Assembly Extras | D30: ZAR | E30: 100 | F30: 420 | G30: 1 | H30: CALL | I30: =E30*F30*G30 -> 42000 | J30: 0 | AG30: =I30/'Budget Summary'!$D$25 -> 2560.9756
A31: ST | B31: SUB-TOTAL | I31: =SUM(I26:I30) -> 215040 | J31: 0 | S31: =SUM(L31:R31) -> 0 | Z31: ST | AA31: SUB-TOTAL | AG31: =I31/'Budget Summary'!$D$25 -> 13112.195
A32: * | H32: TOTAL: | I32: =SUM(I5+I16+I24+I31) -> 947040 | J32: 0 | S32: =SUM(L32:R32) -> 0 | Z32: * | AG32: =I32/'Budget Summary'!$D$25 -> 57746.341
A33: ST1 | B33: SUB-TOTAL: ABOVE THE LINE: TALENT | H33: TOTAL: | I33: =I32+J32 -> 947040 | J33: 0 | S33: =SUM(L33:R33) -> 0 | Z33: ST1 | AA33: SUB-TOTAL: ABOVE THE LINE: TALENT | AG33: =I33/'Budget Summary'!$D$25 -> 57746.341
B34: EXECUTIVE TEAM | I34: =I39 -> 252000 | J34: 0 | L34: 30000 | M34: 30000 | N34: 30000 | O34: 30000 | P34: 30000 | Q34: =I34-L34-M34-N34-O34-P34 -> 102000 | S34: =SUM(L34:R34) -> 252000 | Z34: G | AA34: EXECUTIVE TEAM | AG34: =I34/'Budget Summary'!$D$25 -> 15365.854
A35: B | B35: PRODUCERS - SHOWRUNNERS | I35: =I37 -> 252000 | J35: 0 | S35: =SUM(L35:R35) -> 0 | Z35: G01 | AA35: PRODUCERS - SHOWRUNNERS | AG35: =I35/'Budget Summary'!$D$25 -> 15365.854
A36: B01-001 | B36: PRODUCERS | C36: 6 weeks prep + 4.5 week shoot + post prod | D36: ZAR | E36: 1 | F36: 42000 | G36: 6 | H36: MONTH | I36: =E36*F36*G36 -> 252000 | J36: 0 | S36: =SUM(L36:R36) -> 0 | V36: Please confirm, is the cost not internal? | W36: Jordy Sank (director) is the company owner. The producer will be employed via this contract. Should the Director line be under Recoverable? | Y36: Yes please | Z36: G01-02 | AA36: PRODUCERS - | AB36: 02. ALL PHASES | AD36: Y | AE36: ZAR | AF36: 1 | AG36: =I36/'Budget Summary'!$D$25 -> 15365.854
A37: ST | B37: SUB-TOTAL | I37: =I36 -> 252000 | J37: 0 | S37: =SUM(L37:R37) -> 0 | Z37: ST | AA37: SUB-TOTAL | AG37: =I37/'Budget Summary'!$D$25 -> 15365.854
A38: * | H38: TOTAL: | I38: =I37 -> 252000 | J38: 0 | S38: =SUM(L38:R38) -> 0 | Z38: * | AG38: =I38/'Budget Summary'!$D$25 -> 15365.854
A39: ST1 | B39: SUB-TOTAL: ABOVE THE LINE: EXECUTIVE TEAM | H39: TOTAL: | I39: =I38+J38 -> 252000 | J39: 0 | S39: =SUM(L39:R39) -> 0 | Z39: ST1 | AA39: SUB-TOTAL: ABOVE THE LINE: EXECUTIVE TEAM | AG39: =I39/'Budget Summary'!$D$25 -> 15365.854
B40: DIRECTORS TEAM | I40: =SUM(I41+I44+I49) -> 506500 | J40: 0 | S40: =SUM(L40:R40) -> 0 | Z40: H | AA40: DIRECTORS TEAM | AG40: =I40/'Budget Summary'!$D$25 -> 30884.146
...
